BEGIN:VCALENDAR
VERSION:2.0
PRODID:-//ACNG | Association Cantonale Neuchâteloise de Gymnastique - ECPv6.15.18//NONSGML v1.0//EN
CALSCALE:GREGORIAN
METHOD:PUBLISH
X-WR-CALNAME:ACNG | Association Cantonale Neuchâteloise de Gymnastique
X-ORIGINAL-URL:https://www.acng.ch
X-WR-CALDESC:Évènements pour ACNG | Association Cantonale Neuchâteloise de Gymnastique
REFRESH-INTERVAL;VALUE=DURATION:PT1H
X-Robots-Tag:noindex
X-PUBLISHED-TTL:PT1H
BEGIN:VTIMEZONE
TZID:Europe/Zurich
BEGIN:DAYLIGHT
TZOFFSETFROM:+0100
TZOFFSETTO:+0200
TZNAME:CEST
DTSTART:20200329T010000
END:DAYLIGHT
BEGIN:STANDARD
TZOFFSETFROM:+0200
TZOFFSETTO:+0100
TZNAME:CET
DTSTART:20201025T010000
END:STANDARD
BEGIN:DAYLIGHT
TZOFFSETFROM:+0100
TZOFFSETTO:+0200
TZNAME:CEST
DTSTART:20210328T010000
END:DAYLIGHT
BEGIN:STANDARD
TZOFFSETFROM:+0200
TZOFFSETTO:+0100
TZNAME:CET
DTSTART:20211031T010000
END:STANDARD
BEGIN:DAYLIGHT
TZOFFSETFROM:+0100
TZOFFSETTO:+0200
TZNAME:CEST
DTSTART:20220327T010000
END:DAYLIGHT
BEGIN:STANDARD
TZOFFSETFROM:+0200
TZOFFSETTO:+0100
TZNAME:CET
DTSTART:20221030T010000
END:STANDARD
END:VTIMEZONE
BEGIN:VEVENT
DTSTART;TZID=Europe/Zurich:20210822T090000
DTEND;TZID=Europe/Zurich:20210822T170000
DTSTAMP:20260423T123801
CREATED:20210210T101219Z
LAST-MODIFIED:20210607T100608Z
UID:2390-1629622800-1629651600@www.acng.ch
SUMMARY:Cours préparation mentale 2
DESCRIPTION:Voici un PDF de présentation du cours de préparation mentale 2 : Présentation_Préparation_Mentale_2 \nLes infos complémentaires au PDF sont les suivantes : \n\nLes formations se dérouleront au local ACNG à Cernier.\nLa finance d’inscription est de 50.- pour les membres ACNG et de 70.- pour les externes (par journée de formation).\nLes inscriptions se font via le formulaire officiel sur le site de l’ACNG ci-dessous.\nPriorité est donnée aux membres ACNG\, 15 participants maximum\, selon ordre d’arrivée des inscriptions.\nSuivant l’évolution de la situation sanitaire\, la tenue du cours voire le nombre de participants pouvant y prendre part sont susceptibles de varier. Une réalisation de celui-ci en visio-conférence est également envisageable. Si tel était le cas\, les participants en seraient directement avertis.\nInscriptions jusqu’au 22 juillet pour le cours 2\n\n\n\n\n\nFormulaire pour les formations\nFormulaire pour les formations\n\n\n\n\n\n\n\n    Nom prénom\n        *\n    \n    \n    \n    \n\n\n    Adresse\n        *\n    \n    \n    \n    \n\n\n    NPA lieu\n        *\n    \n    \n    \n    \n\n\n    Téléphone\n        *\n    \n    \n    \n    \n\n\n    E-mail\n        *\n    \n    \n    \n    \n\n\n    Société\n        *\n    \n    \n    \n    \n\n\n    Formation actuelle\, année du brevet\n        \n    \n    \n    \n    \n\n\n    Date de naissance\n        *\n    \n    \n    \n    \n\n\n    N° membre FSG\n        \n    \n    \n    \n    \n\n\n    Désignation du cours\n        *\n    \n    \n    \n    \n\n\n    Date du cours\n        *\n    \n    \n    \n    \n\n	\n			\n			\n				Si vous êtes un humain\, ne remplissez pas ce champ.			\n			\n		\n		\n\nEnvoyer\n\n\n\n\n\nΔ
URL:https://www.acng.ch/event/cours-preparation-mentale-2/
LOCATION:Local ACNG\, Cernier\, Cernier\, 2053\, Suisse
CATEGORIES:Formations ACNG
ATTACH;FMTTYPE=image/svg+xml:https://www.acng.ch/wp-content/uploads/2020/10/formations.svg
END:VEVENT
BEGIN:VEVENT
DTSTART;TZID=Europe/Zurich:20210828T130000
DTEND;TZID=Europe/Zurich:20210828T170000
DTSTAMP:20260423T123801
CREATED:20210630T103008Z
LAST-MODIFIED:20210630T103008Z
UID:2744-1630155600-1630170000@www.acng.ch
SUMMARY:Formation "cahier d'exercices club sportif 2030"
DESCRIPTION:Invitation \nPlan \nProgramme \nInscription: \n\n\n\n\nFormulaire pour les formations\n\n\n\n\n\n\n\n\n    Nom prénom\n        *\n    \n    \n    \n    \n\n\n    Adresse\n        *\n    \n    \n    \n    \n\n\n    NPA lieu\n        *\n    \n    \n    \n    \n\n\n    Téléphone\n        *\n    \n    \n    \n    \n\n\n    E-mail\n        *\n    \n    \n    \n    \n\n\n    Société\n        *\n    \n    \n    \n    \n\n\n    Formation actuelle\, année du brevet\n        \n    \n    \n    \n    \n\n\n    Date de naissance\n        *\n    \n    \n    \n    \n\n\n    N° membre FSG\n        \n    \n    \n    \n    \n\n\n    Désignation du cours\n        *\n    \n    \n    \n    \n\n\n    Date du cours\n        *\n    \n    \n    \n    \n\n	\n			\n			\n				Si vous êtes un humain\, ne remplissez pas ce champ.			\n			\n		\n		\n\nEnvoyer\n\n\n\n\n\nΔ
URL:https://www.acng.ch/event/formation-cahier-dexercices-club-sportif-2030/
CATEGORIES:Formations ACNG,Formations management de sociétés
ATTACH;FMTTYPE=image/svg+xml:https://www.acng.ch/wp-content/uploads/2020/10/management-de-societes.svg
END:VEVENT
END:VCALENDAR