BEGIN:VCALENDAR
VERSION:2.0
PRODID:-//ACNG | Association Cantonale Neuchâteloise de Gymnastique - ECPv6.15.18//NONSGML v1.0//EN
CALSCALE:GREGORIAN
METHOD:PUBLISH
X-WR-CALNAME:ACNG | Association Cantonale Neuchâteloise de Gymnastique
X-ORIGINAL-URL:https://www.acng.ch
X-WR-CALDESC:Évènements pour ACNG | Association Cantonale Neuchâteloise de Gymnastique
REFRESH-INTERVAL;VALUE=DURATION:PT1H
X-Robots-Tag:noindex
X-PUBLISHED-TTL:PT1H
BEGIN:VTIMEZONE
TZID:Europe/Zurich
BEGIN:DAYLIGHT
TZOFFSETFROM:+0100
TZOFFSETTO:+0200
TZNAME:CEST
DTSTART:20200329T010000
END:DAYLIGHT
BEGIN:STANDARD
TZOFFSETFROM:+0200
TZOFFSETTO:+0100
TZNAME:CET
DTSTART:20201025T010000
END:STANDARD
BEGIN:DAYLIGHT
TZOFFSETFROM:+0100
TZOFFSETTO:+0200
TZNAME:CEST
DTSTART:20210328T010000
END:DAYLIGHT
BEGIN:STANDARD
TZOFFSETFROM:+0200
TZOFFSETTO:+0100
TZNAME:CET
DTSTART:20211031T010000
END:STANDARD
BEGIN:DAYLIGHT
TZOFFSETFROM:+0100
TZOFFSETTO:+0200
TZNAME:CEST
DTSTART:20220327T010000
END:DAYLIGHT
BEGIN:STANDARD
TZOFFSETFROM:+0200
TZOFFSETTO:+0100
TZNAME:CET
DTSTART:20221030T010000
END:STANDARD
END:VTIMEZONE
BEGIN:VEVENT
DTSTART;TZID=Europe/Zurich:20211003T080000
DTEND;TZID=Europe/Zurich:20211003T170000
DTSTAMP:20260421T113854
CREATED:20201222T092102Z
LAST-MODIFIED:20201222T092425Z
UID:2024-1633248000-1633280400@www.acng.ch
SUMMARY:Formation - Gymnastique - Cours à thème\, tests
DESCRIPTION:Gymnastique : Cours à thème\, tests\nDélai d’inscription : 3 septembre 2021\nInscription via le formulaire suivant : \n\n\n\nFormulaire pour les formations\n\n\n\n\n\n\n\n\n    Nom prénom\n        *\n    \n    \n    \n    \n\n\n    Adresse\n        *\n    \n    \n    \n    \n\n\n    NPA lieu\n        *\n    \n    \n    \n    \n\n\n    Téléphone\n        *\n    \n    \n    \n    \n\n\n    E-mail\n        *\n    \n    \n    \n    \n\n\n    Société\n        *\n    \n    \n    \n    \n\n\n    Formation actuelle\, année du brevet\n        \n    \n    \n    \n    \n\n\n    Date de naissance\n        *\n    \n    \n    \n    \n\n\n    N° membre FSG\n        \n    \n    \n    \n    \n\n\n    Désignation du cours\n        *\n    \n    \n    \n    \n\n\n    Date du cours\n        *\n    \n    \n    \n    \n\n	\n			\n			\n				Si vous êtes un humain\, ne remplissez pas ce champ.			\n			\n		\n		\n\nEnvoyer\n\n\n\n\n\nΔ
URL:https://www.acng.ch/event/formation-gymnastique-cours-a-theme-tests/
LOCATION:La Maladière (Neuchâtel)
CATEGORIES:Formations ACNG
ATTACH;FMTTYPE=image/svg+xml:https://www.acng.ch/wp-content/uploads/2020/10/formations.svg
ORGANIZER;CN="fam.dibasilico@net2000.ch":MAILTO:fam.dibasilico@net2000.ch
END:VEVENT
BEGIN:VEVENT
DTSTART;TZID=Europe/Zurich:20211023T090000
DTEND;TZID=Europe/Zurich:20211023T160000
DTSTAMP:20260421T113854
CREATED:20201222T090820Z
LAST-MODIFIED:20210522T065429Z
UID:2018-1634979600-1635004800@www.acng.ch
SUMMARY:Formation - Enfantine - Cours perfectionnement J+S
DESCRIPTION:Cours de perfectionnement J+S Enfantine\nDélai d’inscription : 22 septembre 2021\nInscription via le formulaire suivant : \n\n\n\nFormulaire pour les formations\n\n\n\n\n\n\n\n\n    Nom prénom\n        *\n    \n    \n    \n    \n\n\n    Adresse\n        *\n    \n    \n    \n    \n\n\n    NPA lieu\n        *\n    \n    \n    \n    \n\n\n    Téléphone\n        *\n    \n    \n    \n    \n\n\n    E-mail\n        *\n    \n    \n    \n    \n\n\n    Société\n        *\n    \n    \n    \n    \n\n\n    Formation actuelle\, année du brevet\n        \n    \n    \n    \n    \n\n\n    Date de naissance\n        *\n    \n    \n    \n    \n\n\n    N° membre FSG\n        \n    \n    \n    \n    \n\n\n    Désignation du cours\n        *\n    \n    \n    \n    \n\n\n    Date du cours\n        *\n    \n    \n    \n    \n\n	\n			\n			\n				Si vous êtes un humain\, ne remplissez pas ce champ.			\n			\n		\n		\n\nEnvoyer\n\n\n\n\n\nΔ
URL:https://www.acng.ch/event/formation-enfantine-cours-perfectionnement-js/
LOCATION:Centre du Mail (Neuchâtel)\, Avenue du Mail 71\, Neuchâtel\, Switzerland
CATEGORIES:Formations ACNG
ATTACH;FMTTYPE=image/svg+xml:https://www.acng.ch/wp-content/uploads/2020/10/formations.svg
ORGANIZER;CN="beatrice.nys@gmail.com":MAILTO:beatrice.nys@gmail.com
END:VEVENT
BEGIN:VEVENT
DTSTART;TZID=Europe/Zurich:20211023T090000
DTEND;TZID=Europe/Zurich:20211023T173000
DTSTAMP:20260421T113854
CREATED:20201222T092326Z
LAST-MODIFIED:20210823T103929Z
UID:2029-1634979600-1635010200@www.acng.ch
SUMMARY:Formation - Polysport - Cours perfectionnement
DESCRIPTION:Cours de perfectionnement Polysport Délai d’inscription : 23 septembre 2021 Inscription via le formulaire suivant : \n\n\n\nFormulaire pour les formations\n\n\n\n\n\n\n\n\n    Nom prénom\n        *\n    \n    \n    \n    \n\n\n    Adresse\n        *\n    \n    \n    \n    \n\n\n    NPA lieu\n        *\n    \n    \n    \n    \n\n\n    Téléphone\n        *\n    \n    \n    \n    \n\n\n    E-mail\n        *\n    \n    \n    \n    \n\n\n    Société\n        *\n    \n    \n    \n    \n\n\n    Formation actuelle\, année du brevet\n        \n    \n    \n    \n    \n\n\n    Date de naissance\n        *\n    \n    \n    \n    \n\n\n    N° membre FSG\n        \n    \n    \n    \n    \n\n\n    Désignation du cours\n        *\n    \n    \n    \n    \n\n\n    Date du cours\n        *\n    \n    \n    \n    \n\n	\n			\n			\n				Si vous êtes un humain\, ne remplissez pas ce champ.			\n			\n		\n		\n\nEnvoyer\n\n\n\n\n\nΔ
URL:https://www.acng.ch/event/formation-polysport-cours-perfectionnement/
LOCATION:Salle du Communal\, Le Locle\, Route du Communal 1\, Le Locle\, 2400\, Switzerland
CATEGORIES:Formations ACNG,Gymnastique des adultes
ATTACH;FMTTYPE=image/svg+xml:https://www.acng.ch/wp-content/uploads/2020/10/formations.svg
ORGANIZER;CN="bernadette.jordan@bluewin.ch":MAILTO:bernadette.jordan@bluewin.ch
END:VEVENT
BEGIN:VEVENT
DTSTART;TZID=Europe/Zurich:20211023T090000
DTEND;TZID=Europe/Zurich:20211023T173000
DTSTAMP:20260421T113854
CREATED:20201222T092637Z
LAST-MODIFIED:20210823T130619Z
UID:2033-1634979600-1635010200@www.acng.ch
SUMMARY:Formation - Adultes - Cours de perfectionnement
DESCRIPTION:Cours de perfectionnement Adultes Délai d’inscription : 23 septembre 2021 Inscription via le formulaire suivant : \n\n\n\nFormulaire pour les formations\n\n\n\n\n\n\n\n\n    Nom prénom\n        *\n    \n    \n    \n    \n\n\n    Adresse\n        *\n    \n    \n    \n    \n\n\n    NPA lieu\n        *\n    \n    \n    \n    \n\n\n    Téléphone\n        *\n    \n    \n    \n    \n\n\n    E-mail\n        *\n    \n    \n    \n    \n\n\n    Société\n        *\n    \n    \n    \n    \n\n\n    Formation actuelle\, année du brevet\n        \n    \n    \n    \n    \n\n\n    Date de naissance\n        *\n    \n    \n    \n    \n\n\n    N° membre FSG\n        \n    \n    \n    \n    \n\n\n    Désignation du cours\n        *\n    \n    \n    \n    \n\n\n    Date du cours\n        *\n    \n    \n    \n    \n\n	\n			\n			\n				Si vous êtes un humain\, ne remplissez pas ce champ.			\n			\n		\n		\n\nEnvoyer\n\n\n\n\n\nΔ
URL:https://www.acng.ch/event/formation-adultes-cours-de-perfectionnement/
LOCATION:Salle du Communal\, Le Locle\, Route du Communal 1\, Le Locle\, 2400\, Switzerland
CATEGORIES:Formations ACNG,Gymnastique des adultes
ATTACH;FMTTYPE=image/svg+xml:https://www.acng.ch/wp-content/uploads/2020/10/formations.svg
ORGANIZER;CN="bernadette.jordan@bluewin.ch":MAILTO:bernadette.jordan@bluewin.ch
END:VEVENT
BEGIN:VEVENT
DTSTART;TZID=Europe/Zurich:20211023T130000
DTEND;TZID=Europe/Zurich:20211023T173000
DTSTAMP:20260421T113854
CREATED:20201222T092846Z
LAST-MODIFIED:20201222T092846Z
UID:2036-1634994000-1635010200@www.acng.ch
SUMMARY:Formation - Athlétisme - Cours de perfectionnement
DESCRIPTION:Cours de perfectionnement Athlétisme\nDélai d’inscription : 23 septembre 2021\nInscription via le formulaire suivant : \n\n\n\nFormulaire pour les formations\n\n\n\n\n\n\n\n\n    Nom prénom\n        *\n    \n    \n    \n    \n\n\n    Adresse\n        *\n    \n    \n    \n    \n\n\n    NPA lieu\n        *\n    \n    \n    \n    \n\n\n    Téléphone\n        *\n    \n    \n    \n    \n\n\n    E-mail\n        *\n    \n    \n    \n    \n\n\n    Société\n        *\n    \n    \n    \n    \n\n\n    Formation actuelle\, année du brevet\n        \n    \n    \n    \n    \n\n\n    Date de naissance\n        *\n    \n    \n    \n    \n\n\n    N° membre FSG\n        \n    \n    \n    \n    \n\n\n    Désignation du cours\n        *\n    \n    \n    \n    \n\n\n    Date du cours\n        *\n    \n    \n    \n    \n\n	\n			\n			\n				Si vous êtes un humain\, ne remplissez pas ce champ.			\n			\n		\n		\n\nEnvoyer\n\n\n\n\n\nΔ
URL:https://www.acng.ch/event/formation-athletisme-cours-de-perfectionnement/
LOCATION:Salle du Communal\, Le Locle\, Route du Communal 1\, Le Locle\, 2400\, Switzerland
CATEGORIES:Formations ACNG
ATTACH;FMTTYPE=image/svg+xml:https://www.acng.ch/wp-content/uploads/2020/10/formations.svg
ORGANIZER;CN="chpittet@gmail.com":MAILTO:chpittet@gmail.com
END:VEVENT
END:VCALENDAR