BEGIN:VCALENDAR
VERSION:2.0
PRODID:-//ACNG | Association Cantonale Neuchâteloise de Gymnastique - ECPv6.15.18//NONSGML v1.0//EN
CALSCALE:GREGORIAN
METHOD:PUBLISH
X-WR-CALNAME:ACNG | Association Cantonale Neuchâteloise de Gymnastique
X-ORIGINAL-URL:https://www.acng.ch
X-WR-CALDESC:Évènements pour ACNG | Association Cantonale Neuchâteloise de Gymnastique
REFRESH-INTERVAL;VALUE=DURATION:PT1H
X-Robots-Tag:noindex
X-PUBLISHED-TTL:PT1H
BEGIN:VTIMEZONE
TZID:Europe/Zurich
BEGIN:DAYLIGHT
TZOFFSETFROM:+0100
TZOFFSETTO:+0200
TZNAME:CEST
DTSTART:20210328T010000
END:DAYLIGHT
BEGIN:STANDARD
TZOFFSETFROM:+0200
TZOFFSETTO:+0100
TZNAME:CET
DTSTART:20211031T010000
END:STANDARD
BEGIN:DAYLIGHT
TZOFFSETFROM:+0100
TZOFFSETTO:+0200
TZNAME:CEST
DTSTART:20220327T010000
END:DAYLIGHT
BEGIN:STANDARD
TZOFFSETFROM:+0200
TZOFFSETTO:+0100
TZNAME:CET
DTSTART:20221030T010000
END:STANDARD
BEGIN:DAYLIGHT
TZOFFSETFROM:+0100
TZOFFSETTO:+0200
TZNAME:CEST
DTSTART:20230326T010000
END:DAYLIGHT
BEGIN:STANDARD
TZOFFSETFROM:+0200
TZOFFSETTO:+0100
TZNAME:CET
DTSTART:20231029T010000
END:STANDARD
END:VTIMEZONE
BEGIN:VEVENT
DTSTART;TZID=Europe/Zurich:20220206T080000
DTEND;TZID=Europe/Zurich:20220206T160000
DTSTAMP:20260421T034532
CREATED:20210713T103135Z
LAST-MODIFIED:20211123T093215Z
UID:2759-1644134400-1644163200@www.acng.ch
SUMMARY:Formation: CP gymnastique et danse
DESCRIPTION:Inscription jusqu’au 06.01.2022 \n\n\n\nFormulaire pour les formations\n\n\n\n\n\n\n\n\n    Nom prénom\n        *\n    \n    \n    \n    \n\n\n    Adresse\n        *\n    \n    \n    \n    \n\n\n    NPA lieu\n        *\n    \n    \n    \n    \n\n\n    Téléphone\n        *\n    \n    \n    \n    \n\n\n    E-mail\n        *\n    \n    \n    \n    \n\n\n    Société\n        *\n    \n    \n    \n    \n\n\n    Formation actuelle\, année du brevet\n        \n    \n    \n    \n    \n\n\n    Date de naissance\n        *\n    \n    \n    \n    \n\n\n    N° membre FSG\n        \n    \n    \n    \n    \n\n\n    Désignation du cours\n        *\n    \n    \n    \n    \n\n\n    Date du cours\n        *\n    \n    \n    \n    \n\n	\n			\n			\n				Si vous êtes un humain\, ne remplissez pas ce champ.			\n			\n		\n		\n\nEnvoyer\n\n\n\n\n\nΔ
URL:https://www.acng.ch/event/formation-cp-gymnastique-et-danse/
LOCATION:La Maladière\, Neuchâtel
CATEGORIES:Formations ACNG
ATTACH;FMTTYPE=image/svg+xml:https://www.acng.ch/wp-content/uploads/2020/10/formations.svg
END:VEVENT
BEGIN:VEVENT
DTSTART;VALUE=DATE:20220212
DTEND;VALUE=DATE:20220213
DTSTAMP:20260421T034532
CREATED:20210713T103414Z
LAST-MODIFIED:20211123T093300Z
UID:2763-1644624000-1644710399@www.acng.ch
SUMMARY:Formation: CP J+S agrès et artistique
DESCRIPTION:Inscription uniquement par coach J+S
URL:https://www.acng.ch/event/formation-cp-js-agres-et-artistique/
LOCATION:Centre du Mail (Neuchâtel)\, Avenue du Mail 71\, Neuchâtel\, Switzerland
CATEGORIES:Formations ACNG
ATTACH;FMTTYPE=image/svg+xml:https://www.acng.ch/wp-content/uploads/2020/10/formations.svg
END:VEVENT
END:VCALENDAR