BEGIN:VCALENDAR
VERSION:2.0
PRODID:-//ACNG | Association Cantonale Neuchâteloise de Gymnastique - ECPv6.15.18//NONSGML v1.0//EN
CALSCALE:GREGORIAN
METHOD:PUBLISH
X-WR-CALNAME:ACNG | Association Cantonale Neuchâteloise de Gymnastique
X-ORIGINAL-URL:https://www.acng.ch
X-WR-CALDESC:Évènements pour ACNG | Association Cantonale Neuchâteloise de Gymnastique
REFRESH-INTERVAL;VALUE=DURATION:PT1H
X-Robots-Tag:noindex
X-PUBLISHED-TTL:PT1H
BEGIN:VTIMEZONE
TZID:Europe/Zurich
BEGIN:DAYLIGHT
TZOFFSETFROM:+0100
TZOFFSETTO:+0200
TZNAME:CEST
DTSTART:20210328T010000
END:DAYLIGHT
BEGIN:STANDARD
TZOFFSETFROM:+0200
TZOFFSETTO:+0100
TZNAME:CET
DTSTART:20211031T010000
END:STANDARD
BEGIN:DAYLIGHT
TZOFFSETFROM:+0100
TZOFFSETTO:+0200
TZNAME:CEST
DTSTART:20220327T010000
END:DAYLIGHT
BEGIN:STANDARD
TZOFFSETFROM:+0200
TZOFFSETTO:+0100
TZNAME:CET
DTSTART:20221030T010000
END:STANDARD
BEGIN:DAYLIGHT
TZOFFSETFROM:+0100
TZOFFSETTO:+0200
TZNAME:CEST
DTSTART:20230326T010000
END:DAYLIGHT
BEGIN:STANDARD
TZOFFSETFROM:+0200
TZOFFSETTO:+0100
TZNAME:CET
DTSTART:20231029T010000
END:STANDARD
END:VTIMEZONE
BEGIN:VEVENT
DTSTART;VALUE=DATE:20220422
DTEND;VALUE=DATE:20220425
DTSTAMP:20260421T002039
CREATED:20210930T103929Z
LAST-MODIFIED:20210930T103931Z
UID:2997-1650585600-1650844799@www.acng.ch
SUMMARY:Cours mise à niveau parents enfants
DESCRIPTION:Cours destiné aux moniteurs ayant déjà un brevet (J+S ou autre) et souhaitant devenir moniteur P/E.\n\nInformations auprès de Sylvie Grünig.
URL:https://www.acng.ch/event/cours-mise-a-niveau-parents-enfants/
LOCATION:La Fontenelle\, Cernier\, Rue de Chasseral\, Cernier\, 2053
CATEGORIES:Formations ACNG,Parents-enfants et enfantines
ATTACH;FMTTYPE=image/svg+xml:https://www.acng.ch/wp-content/uploads/2020/10/formations.svg
ORGANIZER;CN="sgjaw@icloud.com":MAILTO:sgjaw@icloud.com
END:VEVENT
END:VCALENDAR