BEGIN:VCALENDAR
VERSION:2.0
PRODID:-//ACNG | Association Cantonale Neuchâteloise de Gymnastique - ECPv6.15.18//NONSGML v1.0//EN
CALSCALE:GREGORIAN
METHOD:PUBLISH
X-WR-CALNAME:ACNG | Association Cantonale Neuchâteloise de Gymnastique
X-ORIGINAL-URL:https://www.acng.ch
X-WR-CALDESC:Évènements pour ACNG | Association Cantonale Neuchâteloise de Gymnastique
REFRESH-INTERVAL;VALUE=DURATION:PT1H
X-Robots-Tag:noindex
X-PUBLISHED-TTL:PT1H
BEGIN:VTIMEZONE
TZID:Europe/Zurich
BEGIN:DAYLIGHT
TZOFFSETFROM:+0100
TZOFFSETTO:+0200
TZNAME:CEST
DTSTART:20210328T010000
END:DAYLIGHT
BEGIN:STANDARD
TZOFFSETFROM:+0200
TZOFFSETTO:+0100
TZNAME:CET
DTSTART:20211031T010000
END:STANDARD
BEGIN:DAYLIGHT
TZOFFSETFROM:+0100
TZOFFSETTO:+0200
TZNAME:CEST
DTSTART:20220327T010000
END:DAYLIGHT
BEGIN:STANDARD
TZOFFSETFROM:+0200
TZOFFSETTO:+0100
TZNAME:CET
DTSTART:20221030T010000
END:STANDARD
BEGIN:DAYLIGHT
TZOFFSETFROM:+0100
TZOFFSETTO:+0200
TZNAME:CEST
DTSTART:20230326T010000
END:DAYLIGHT
BEGIN:STANDARD
TZOFFSETFROM:+0200
TZOFFSETTO:+0100
TZNAME:CET
DTSTART:20231029T010000
END:STANDARD
END:VTIMEZONE
BEGIN:VEVENT
DTSTART;TZID=Europe/Zurich:20221002T080000
DTEND;TZID=Europe/Zurich:20221002T160000
DTSTAMP:20260420T134317
CREATED:20210713T103954Z
LAST-MODIFIED:20211123T093137Z
UID:2767-1664697600-1664726400@www.acng.ch
SUMMARY:Formation: CP gymnastique et danse
DESCRIPTION:Inscription jusqu’au 02.09.2022 \n\n\n\nFormulaire pour les formations\n\n\n\n\n\n\n\n\n    Nom prénom\n        *\n    \n    \n    \n    \n\n\n    Adresse\n        *\n    \n    \n    \n    \n\n\n    NPA lieu\n        *\n    \n    \n    \n    \n\n\n    Téléphone\n        *\n    \n    \n    \n    \n\n\n    E-mail\n        *\n    \n    \n    \n    \n\n\n    Société\n        *\n    \n    \n    \n    \n\n\n    Formation actuelle\, année du brevet\n        \n    \n    \n    \n    \n\n\n    Date de naissance\n        *\n    \n    \n    \n    \n\n\n    N° membre FSG\n        \n    \n    \n    \n    \n\n\n    Désignation du cours\n        *\n    \n    \n    \n    \n\n\n    Date du cours\n        *\n    \n    \n    \n    \n\n	\n			\n			\n				Si vous êtes un humain\, ne remplissez pas ce champ.			\n			\n		\n		\n\nEnvoyer\n\n\n\n\n\nΔ
URL:https://www.acng.ch/event/formation-cp-gymnastique-et-danse-2/
LOCATION:La Maladière\, Neuchâtel
CATEGORIES:Formations ACNG
ATTACH;FMTTYPE=image/svg+xml:https://www.acng.ch/wp-content/uploads/2020/10/formations.svg
END:VEVENT
BEGIN:VEVENT
DTSTART;TZID=Europe/Zurich:20221022T083000
DTEND;TZID=Europe/Zurich:20221022T130000
DTSTAMP:20260420T134317
CREATED:20210713T104430Z
LAST-MODIFIED:20210713T104659Z
UID:2776-1666427400-1666443600@www.acng.ch
SUMMARY:Formation: CP adultes
DESCRIPTION:Inscription jusqu’au 22.09.2022 \n\n\n\n\nFormulaire pour les formations\n\n\n\n\n\n\n\n\n    Nom prénom\n        *\n    \n    \n    \n    \n\n\n    Adresse\n        *\n    \n    \n    \n    \n\n\n    NPA lieu\n        *\n    \n    \n    \n    \n\n\n    Téléphone\n        *\n    \n    \n    \n    \n\n\n    E-mail\n        *\n    \n    \n    \n    \n\n\n    Société\n        *\n    \n    \n    \n    \n\n\n    Formation actuelle\, année du brevet\n        \n    \n    \n    \n    \n\n\n    Date de naissance\n        *\n    \n    \n    \n    \n\n\n    N° membre FSG\n        \n    \n    \n    \n    \n\n\n    Désignation du cours\n        *\n    \n    \n    \n    \n\n\n    Date du cours\n        *\n    \n    \n    \n    \n\n	\n			\n			\n				Si vous êtes un humain\, ne remplissez pas ce champ.			\n			\n		\n		\n\nEnvoyer\n\n\n\n\n\nΔ
URL:https://www.acng.ch/event/formation-cp-adultes-2/
LOCATION:Salle du Communal\, Le Locle\, Route du Communal 1\, Le Locle\, 2400\, Switzerland
CATEGORIES:Formations ACNG,Gymnastique des adultes
ATTACH;FMTTYPE=image/svg+xml:https://www.acng.ch/wp-content/uploads/2020/10/formations.svg
END:VEVENT
BEGIN:VEVENT
DTSTART;TZID=Europe/Zurich:20221022T083000
DTEND;TZID=Europe/Zurich:20221022T130000
DTSTAMP:20260420T134317
CREATED:20210713T104626Z
LAST-MODIFIED:20210823T104002Z
UID:2779-1666427400-1666443600@www.acng.ch
SUMMARY:Formation: CP polysport
DESCRIPTION:Inscription jusqu’au 22.09.2022 \n\n\n\nFormulaire pour les formations\n\n\n\n\n\n\n\n\n    Nom prénom\n        *\n    \n    \n    \n    \n\n\n    Adresse\n        *\n    \n    \n    \n    \n\n\n    NPA lieu\n        *\n    \n    \n    \n    \n\n\n    Téléphone\n        *\n    \n    \n    \n    \n\n\n    E-mail\n        *\n    \n    \n    \n    \n\n\n    Société\n        *\n    \n    \n    \n    \n\n\n    Formation actuelle\, année du brevet\n        \n    \n    \n    \n    \n\n\n    Date de naissance\n        *\n    \n    \n    \n    \n\n\n    N° membre FSG\n        \n    \n    \n    \n    \n\n\n    Désignation du cours\n        *\n    \n    \n    \n    \n\n\n    Date du cours\n        *\n    \n    \n    \n    \n\n	\n			\n			\n				Si vous êtes un humain\, ne remplissez pas ce champ.			\n			\n		\n		\n\nEnvoyer\n\n\n\n\n\nΔ
URL:https://www.acng.ch/event/formation-cp-polysport/
LOCATION:Salle du Communal\, Le Locle\, Route du Communal 1\, Le Locle\, 2400\, Switzerland
CATEGORIES:Formations ACNG,Gymnastique des adultes
ATTACH;FMTTYPE=image/svg+xml:https://www.acng.ch/wp-content/uploads/2020/10/formations.svg
END:VEVENT
BEGIN:VEVENT
DTSTART;TZID=Europe/Zurich:20221022T133000
DTEND;TZID=Europe/Zurich:20221022T163000
DTSTAMP:20260420T134317
CREATED:20220828T140542Z
LAST-MODIFIED:20220909T071840Z
UID:3491-1666445400-1666456200@www.acng.ch
SUMMARY:Formation: CP Tournoi des 3 jeux
DESCRIPTION:Délai d’inscription 8 octobre 2022 \n  \nInformations CP jeux \n  \n\n\n\n\nFormulaire pour les formations\n\n\n\n\n\n\n\n\n    Nom prénom\n        *\n    \n    \n    \n    \n\n\n    Adresse\n        *\n    \n    \n    \n    \n\n\n    NPA lieu\n        *\n    \n    \n    \n    \n\n\n    Téléphone\n        *\n    \n    \n    \n    \n\n\n    E-mail\n        *\n    \n    \n    \n    \n\n\n    Société\n        *\n    \n    \n    \n    \n\n\n    Formation actuelle\, année du brevet\n        \n    \n    \n    \n    \n\n\n    Date de naissance\n        *\n    \n    \n    \n    \n\n\n    N° membre FSG\n        \n    \n    \n    \n    \n\n\n    Désignation du cours\n        *\n    \n    \n    \n    \n\n\n    Date du cours\n        *\n    \n    \n    \n    \n\n	\n			\n			\n				Si vous êtes un humain\, ne remplissez pas ce champ.			\n			\n		\n		\n\nEnvoyer\n\n\n\n\n\nΔ
URL:https://www.acng.ch/event/formation-cp-jeux-fit-fun/
LOCATION:Salle du Communal\, Le Locle\, Route du Communal 1\, Le Locle\, 2400\, Switzerland
CATEGORIES:Formations ACNG,Gymnastique des adultes
ATTACH;FMTTYPE=image/svg+xml:https://www.acng.ch/wp-content/uploads/2021/01/gymnastique-adultes.svg
END:VEVENT
BEGIN:VEVENT
DTSTART;TZID=Europe/Zurich:20221022T133000
DTEND;TZID=Europe/Zurich:20221022T173000
DTSTAMP:20260420T134317
CREATED:20210713T104117Z
LAST-MODIFIED:20211123T093508Z
UID:2770-1666445400-1666459800@www.acng.ch
SUMMARY:Formation: CP athlétisme
DESCRIPTION:Inscription jusqu’au 22.09.2022 \n\n\n\nFormulaire pour les formations\n\n\n\n\n\n\n\n\n    Nom prénom\n        *\n    \n    \n    \n    \n\n\n    Adresse\n        *\n    \n    \n    \n    \n\n\n    NPA lieu\n        *\n    \n    \n    \n    \n\n\n    Téléphone\n        *\n    \n    \n    \n    \n\n\n    E-mail\n        *\n    \n    \n    \n    \n\n\n    Société\n        *\n    \n    \n    \n    \n\n\n    Formation actuelle\, année du brevet\n        \n    \n    \n    \n    \n\n\n    Date de naissance\n        *\n    \n    \n    \n    \n\n\n    N° membre FSG\n        \n    \n    \n    \n    \n\n\n    Désignation du cours\n        *\n    \n    \n    \n    \n\n\n    Date du cours\n        *\n    \n    \n    \n    \n\n	\n			\n			\n				Si vous êtes un humain\, ne remplissez pas ce champ.			\n			\n		\n		\n\nEnvoyer\n\n\n\n\n\nΔ
URL:https://www.acng.ch/event/formation-cp-athletisme/
LOCATION:Salle du Communal\, Le Locle\, Route du Communal 1\, Le Locle\, 2400\, Switzerland
CATEGORIES:Formations ACNG
ATTACH;FMTTYPE=image/svg+xml:https://www.acng.ch/wp-content/uploads/2020/10/formations.svg
END:VEVENT
BEGIN:VEVENT
DTSTART;TZID=Europe/Zurich:20221030T000000
DTEND;TZID=Europe/Zurich:20221030T235959
DTSTAMP:20260420T134317
CREATED:20211124T114254Z
LAST-MODIFIED:20211124T114256Z
UID:3128-1667088000-1667174399@www.acng.ch
SUMMARY:Formation: CP parent enfant
DESCRIPTION:Délai d’inscription 30 septembre 2022\n\n\n\n\n\nFormulaire pour les formations\n\n\n\n\n\n\n\n\n    Nom prénom\n        *\n    \n    \n    \n    \n\n\n    Adresse\n        *\n    \n    \n    \n    \n\n\n    NPA lieu\n        *\n    \n    \n    \n    \n\n\n    Téléphone\n        *\n    \n    \n    \n    \n\n\n    E-mail\n        *\n    \n    \n    \n    \n\n\n    Société\n        *\n    \n    \n    \n    \n\n\n    Formation actuelle\, année du brevet\n        \n    \n    \n    \n    \n\n\n    Date de naissance\n        *\n    \n    \n    \n    \n\n\n    N° membre FSG\n        \n    \n    \n    \n    \n\n\n    Désignation du cours\n        *\n    \n    \n    \n    \n\n\n    Date du cours\n        *\n    \n    \n    \n    \n\n	\n			\n			\n				Si vous êtes un humain\, ne remplissez pas ce champ.			\n			\n		\n		\n\nEnvoyer\n\n\n\n\n\nΔ \n\n\n\n 
URL:https://www.acng.ch/event/formation-cp-parent-enfant/
CATEGORIES:Formations ACNG
ATTACH;FMTTYPE=image/svg+xml:https://www.acng.ch/wp-content/uploads/2021/01/parents-enfants.svg
END:VEVENT
END:VCALENDAR