BEGIN:VCALENDAR
VERSION:2.0
PRODID:-//ACNG | Association Cantonale Neuchâteloise de Gymnastique - ECPv6.15.18//NONSGML v1.0//EN
CALSCALE:GREGORIAN
METHOD:PUBLISH
X-WR-CALNAME:ACNG | Association Cantonale Neuchâteloise de Gymnastique
X-ORIGINAL-URL:https://www.acng.ch
X-WR-CALDESC:Évènements pour ACNG | Association Cantonale Neuchâteloise de Gymnastique
REFRESH-INTERVAL;VALUE=DURATION:PT1H
X-Robots-Tag:noindex
X-PUBLISHED-TTL:PT1H
BEGIN:VTIMEZONE
TZID:Europe/Zurich
BEGIN:DAYLIGHT
TZOFFSETFROM:+0100
TZOFFSETTO:+0200
TZNAME:CEST
DTSTART:20220327T010000
END:DAYLIGHT
BEGIN:STANDARD
TZOFFSETFROM:+0200
TZOFFSETTO:+0100
TZNAME:CET
DTSTART:20221030T010000
END:STANDARD
BEGIN:DAYLIGHT
TZOFFSETFROM:+0100
TZOFFSETTO:+0200
TZNAME:CEST
DTSTART:20230326T010000
END:DAYLIGHT
BEGIN:STANDARD
TZOFFSETFROM:+0200
TZOFFSETTO:+0100
TZNAME:CET
DTSTART:20231029T010000
END:STANDARD
BEGIN:DAYLIGHT
TZOFFSETFROM:+0100
TZOFFSETTO:+0200
TZNAME:CEST
DTSTART:20240331T010000
END:DAYLIGHT
BEGIN:STANDARD
TZOFFSETFROM:+0200
TZOFFSETTO:+0100
TZNAME:CET
DTSTART:20241027T010000
END:STANDARD
END:VTIMEZONE
BEGIN:VEVENT
DTSTART;TZID=Europe/Zurich:20230312T090000
DTEND;TZID=Europe/Zurich:20230312T173000
DTSTAMP:20260420T041226
CREATED:20221203T180526Z
LAST-MODIFIED:20221203T180526Z
UID:3594-1678611600-1678642200@www.acng.ch
SUMMARY:Formation: CP gymnastique des adultes
DESCRIPTION:Limite inscription 1 mois avant le cours \n  \n\n\n\n\nFormulaire pour les formations\n\n\n\n\n\n\n\n\n    Nom prénom\n        *\n    \n    \n    \n    \n\n\n    Adresse\n        *\n    \n    \n    \n    \n\n\n    NPA lieu\n        *\n    \n    \n    \n    \n\n\n    Téléphone\n        *\n    \n    \n    \n    \n\n\n    E-mail\n        *\n    \n    \n    \n    \n\n\n    Société\n        *\n    \n    \n    \n    \n\n\n    Formation actuelle\, année du brevet\n        \n    \n    \n    \n    \n\n\n    Date de naissance\n        *\n    \n    \n    \n    \n\n\n    N° membre FSG\n        \n    \n    \n    \n    \n\n\n    Désignation du cours\n        *\n    \n    \n    \n    \n\n\n    Date du cours\n        *\n    \n    \n    \n    \n\n	\n			\n			\n				Si vous êtes un humain\, ne remplissez pas ce champ.			\n			\n		\n		\n\nEnvoyer\n\n\n\n\n\nΔ
URL:https://www.acng.ch/event/formation-cp-gymnastique-des-adultes/
LOCATION:Corcelles-Cormondrèche\, Corcelles-Cormondrèche
CATEGORIES:Formations ACNG,Gymnastique des adultes
ATTACH;FMTTYPE=image/svg+xml:https://www.acng.ch/wp-content/uploads/2020/10/formations.svg
END:VEVENT
BEGIN:VEVENT
DTSTART;TZID=Europe/Zurich:20230328T193000
DTEND;TZID=Europe/Zurich:20230328T213000
DTSTAMP:20260420T041227
CREATED:20221203T180346Z
LAST-MODIFIED:20230116T213848Z
UID:3591-1680031800-1680039000@www.acng.ch
SUMMARY:Formation: CP Jeux Fit&Fun - 2e partie
DESCRIPTION:En prévision de la Fête cantonale neuchâteloise 2023\, Fête romande 2024 et Fête fédérale 2025 \nDélai d’inscription: 24 janvier 2023 \n  \n\n\n\n\nFormulaire pour les formations\n\n\n\n\n\n\n\n\n    Nom prénom\n        *\n    \n    \n    \n    \n\n\n    Adresse\n        *\n    \n    \n    \n    \n\n\n    NPA lieu\n        *\n    \n    \n    \n    \n\n\n    Téléphone\n        *\n    \n    \n    \n    \n\n\n    E-mail\n        *\n    \n    \n    \n    \n\n\n    Société\n        *\n    \n    \n    \n    \n\n\n    Formation actuelle\, année du brevet\n        \n    \n    \n    \n    \n\n\n    Date de naissance\n        *\n    \n    \n    \n    \n\n\n    N° membre FSG\n        \n    \n    \n    \n    \n\n\n    Désignation du cours\n        *\n    \n    \n    \n    \n\n\n    Date du cours\n        *\n    \n    \n    \n    \n\n	\n			\n			\n				Si vous êtes un humain\, ne remplissez pas ce champ.			\n			\n		\n		\n\nEnvoyer\n\n\n\n\n\nΔ
URL:https://www.acng.ch/event/formation-cp-jeux-fitfun-2/
LOCATION:Boudry
CATEGORIES:Formations ACNG,Gymnastique des adultes
ATTACH;FMTTYPE=image/svg+xml:https://www.acng.ch/wp-content/uploads/2020/10/formations.svg
END:VEVENT
END:VCALENDAR