BEGIN:VCALENDAR
VERSION:2.0
PRODID:-//ACNG | Association Cantonale Neuchâteloise de Gymnastique - ECPv6.15.18//NONSGML v1.0//EN
CALSCALE:GREGORIAN
METHOD:PUBLISH
X-WR-CALNAME:ACNG | Association Cantonale Neuchâteloise de Gymnastique
X-ORIGINAL-URL:https://www.acng.ch
X-WR-CALDESC:Évènements pour ACNG | Association Cantonale Neuchâteloise de Gymnastique
REFRESH-INTERVAL;VALUE=DURATION:PT1H
X-Robots-Tag:noindex
X-PUBLISHED-TTL:PT1H
BEGIN:VTIMEZONE
TZID:Europe/Zurich
BEGIN:DAYLIGHT
TZOFFSETFROM:+0100
TZOFFSETTO:+0200
TZNAME:CEST
DTSTART:20220327T010000
END:DAYLIGHT
BEGIN:STANDARD
TZOFFSETFROM:+0200
TZOFFSETTO:+0100
TZNAME:CET
DTSTART:20221030T010000
END:STANDARD
BEGIN:DAYLIGHT
TZOFFSETFROM:+0100
TZOFFSETTO:+0200
TZNAME:CEST
DTSTART:20230326T010000
END:DAYLIGHT
BEGIN:STANDARD
TZOFFSETFROM:+0200
TZOFFSETTO:+0100
TZNAME:CET
DTSTART:20231029T010000
END:STANDARD
BEGIN:DAYLIGHT
TZOFFSETFROM:+0100
TZOFFSETTO:+0200
TZNAME:CEST
DTSTART:20240331T010000
END:DAYLIGHT
BEGIN:STANDARD
TZOFFSETFROM:+0200
TZOFFSETTO:+0100
TZNAME:CET
DTSTART:20241027T010000
END:STANDARD
END:VTIMEZONE
BEGIN:VEVENT
DTSTART;VALUE=DATE:20230923
DTEND;VALUE=DATE:20230925
DTSTAMP:20260419T171745
CREATED:20230116T210529Z
LAST-MODIFIED:20230116T210702Z
UID:3624-1695427200-1695599999@www.acng.ch
SUMMARY:Cours de base Parents+Enfants
DESCRIPTION:Dates :\n23 et 24 septembre 2023\n7 et 8 octobre 2023\n11 et 12 novembre 2023 \nLes 6 jours de cours doivent être suivis et les examens réussis pour l’obtention du Brevet Moniteur 1.\nHeures : 8h00 à 18h00 (horaire soumis à modification) \nDélai d’inscription : 12.07.2023 (le formulaire d’inscription ne doit être rempli qu’une seule fois pour l’ensemble de la formation)
URL:https://www.acng.ch/event/cours-de-base-parentsenfants/
LOCATION:Chemin des Curtils 2c\, Le Vaud\, Chemin des Curtils 2C\, Le Vaud\, Vaud\, 1261\, Suisse
CATEGORIES:Formations ACNG
ATTACH;FMTTYPE=image/svg+xml:https://www.acng.ch/wp-content/uploads/2021/01/parents-enfants.svg
ORGANIZER;CN="Gym Vaud":MAILTO:marie-rose.vuilleumier@acvg.ch
END:VEVENT
END:VCALENDAR