BEGIN:VCALENDAR
VERSION:2.0
PRODID:-//ACNG | Association Cantonale Neuchâteloise de Gymnastique - ECPv6.15.18//NONSGML v1.0//EN
CALSCALE:GREGORIAN
METHOD:PUBLISH
X-WR-CALNAME:ACNG | Association Cantonale Neuchâteloise de Gymnastique
X-ORIGINAL-URL:https://www.acng.ch
X-WR-CALDESC:Évènements pour ACNG | Association Cantonale Neuchâteloise de Gymnastique
REFRESH-INTERVAL;VALUE=DURATION:PT1H
X-Robots-Tag:noindex
X-PUBLISHED-TTL:PT1H
BEGIN:VTIMEZONE
TZID:Europe/Zurich
BEGIN:DAYLIGHT
TZOFFSETFROM:+0100
TZOFFSETTO:+0200
TZNAME:CEST
DTSTART:20230326T010000
END:DAYLIGHT
BEGIN:STANDARD
TZOFFSETFROM:+0200
TZOFFSETTO:+0100
TZNAME:CET
DTSTART:20231029T010000
END:STANDARD
BEGIN:DAYLIGHT
TZOFFSETFROM:+0100
TZOFFSETTO:+0200
TZNAME:CEST
DTSTART:20240331T010000
END:DAYLIGHT
BEGIN:STANDARD
TZOFFSETFROM:+0200
TZOFFSETTO:+0100
TZNAME:CET
DTSTART:20241027T010000
END:STANDARD
BEGIN:DAYLIGHT
TZOFFSETFROM:+0100
TZOFFSETTO:+0200
TZNAME:CEST
DTSTART:20250330T010000
END:DAYLIGHT
BEGIN:STANDARD
TZOFFSETFROM:+0200
TZOFFSETTO:+0100
TZNAME:CET
DTSTART:20251026T010000
END:STANDARD
END:VTIMEZONE
BEGIN:VEVENT
DTSTART;TZID=Europe/Zurich:20240420T080000
DTEND;TZID=Europe/Zurich:20240421T170000
DTSTAMP:20260422T121323
CREATED:20240111T094154Z
LAST-MODIFIED:20240115T212144Z
UID:4310-1713600000-1713718800@www.acng.ch
SUMMARY:CHAMPIONNAT CANTONAL AGRES INDIVIDUEL
DESCRIPTION:Directives ici \nInscription ici
URL:https://www.acng.ch/event/championnat-cantonal-agres-individuel/
LOCATION:Le Landeron
CATEGORIES:Gymnastique aux agrès,Manifestations
END:VEVENT
BEGIN:VEVENT
DTSTART;TZID=Europe/Zurich:20240427T080000
DTEND;TZID=Europe/Zurich:20240427T170000
DTSTAMP:20260422T121323
CREATED:20240111T094802Z
LAST-MODIFIED:20240115T210253Z
UID:4321-1714204800-1714237200@www.acng.ch
SUMMARY:COUPE LASCAR 1 - AGRES SOCIETES (JG & ACTIFS)
DESCRIPTION:Directives ici \nInscription ici
URL:https://www.acng.ch/event/coupe-lascar-1-agres-societes-jg-actifs/
LOCATION:La Fontenelle\, Cernier\, Rue de Chasseral\, Cernier\, 2053
CATEGORIES:Gymnastique aux agrès,Manifestations
END:VEVENT
END:VCALENDAR